BEGIN:VCALENDAR
VERSION:2.0
PRODID:-//Rasoham - ECPv6.2.8.1//NONSGML v1.0//EN
CALSCALE:GREGORIAN
METHOD:PUBLISH
X-ORIGINAL-URL:https://rasoham.org
X-WR-CALDESC:Events for Rasoham
REFRESH-INTERVAL;VALUE=DURATION:PT1H
X-Robots-Tag:noindex
X-PUBLISHED-TTL:PT1H
BEGIN:VTIMEZONE
TZID:Asia/Kolkata
BEGIN:STANDARD
TZOFFSETFROM:+0530
TZOFFSETTO:+0530
TZNAME:IST
DTSTART:20230101T000000
END:STANDARD
END:VTIMEZONE
BEGIN:VEVENT
DTSTART;VALUE=DATE:20231215
DTEND;VALUE=DATE:20231225
DTSTAMP:20260423T081256
CREATED:20231129T124951Z
LAST-MODIFIED:20231221T070257Z
UID:10000003-1702598400-1703462399@rasoham.org
SUMMARY:Kutty Kutchery
DESCRIPTION:WEBSITE POSTERS KUTTY KUTCHERY - 3\n\n		\n        \n        \n            \n        \n	    \n         \n\n        \n\n            \n                \n                    \n                \n            \n\n            \n                \n                    \n                \n            \n\n            \n                Image                1                of                10            \n\n            \n                  \n            \n\n        \n    \n\n\nWelcome to the ‘Kutty Kutchery’ experience! Kutty Kutchery Festival – Margazhi 2023\nWe encourage you to register with utmost care and commitment\, as these intimate spaces are reserved for a limited audience who will have an exclusive opportunity to experience artistry up-close and personally. Your ‘Art Pass’ is more than just your entry to an evening of entertainment; it’s ‘responsible entertainment’! Kutty Kutchery Festival – Margazhi 2023 \nIf\, due to unavoidable circumstances\, you are unable to attend that day\, your pass is transferable to someone else who didn’t get a chance to register but wants to be there! You can either give it to someone or inform our team about it 24 hours in advance so that we can facilitate the transfer. Kutty Kutchery Festival – Margazhi 2023 \nFor Bulk Booking of more than 5 Art Passes per event\, please WhatsApp +91 76394 76936.  \nIf you have any trouble with the booking or if you have booked the passes but have not received it via email\, please contact us on WhatsApp. Kutty Kutchery Festival – Margazhi 2023 \nSeating is on a first-come\, first-served basis. Please show your ‘Art Pass’ at the entrance to gain access to an exclusive art experience! Kutty Kutchery Festival – Margazhi 2023 \nPlease follow us for more updates on Instagram @rasoham_official Kutty Kutchery Festival – Margazhi 2023 \nIf the event is fully booked\, please fill this WAITLIST FORM and we will get in touch with you in case we have any cancellations. Kutty Kutchery Festival – Margazhi 2023
URL:https://rasoham.org/global-event/kutty-kutchery/
ATTACH;FMTTYPE=image/png:https://rasoham.org/wp-content/uploads/2023/11/WEBSITE-POSTERS-KUTTY-KUTCHERY-1.png
END:VEVENT
END:VCALENDAR